BEGIN:VCALENDAR
VERSION:2.0
PRODID:-//ChamberMaster//Event Calendar 2.0//EN
METHOD:PUBLISH
X-PUBLISHED-TTL:P3D
REFRESH-INTERVAL:P3D
CALSCALE:GREGORIAN
BEGIN:VEVENT
DTSTART:20211117T180000Z
DTEND:20211117T190000Z
X-MICROSOFT-CDO-ALLDAYEVENT:FALSE
SUMMARY:Year-End Retirement Tax Planning
DESCRIPTION:"There is no time to waste. The actions you take in these final weeks of 2021 can impact you and your families for years\, decades and generations to come."   Ed Slott\n\nWe're thrilled to be joined again by Ed Slott\, CPA and IRA expert\, who will share how the final weeks of 2021 present a critical planning window for the best tax and financial strategies many that may disappear after December 31.\n\nPlease join us on November 17\, 2021 at 1PM EST as Ed shares timely ideas. His talk is titled:\n\n5 Best Strategies: Year-End Retirement Tax Planning for 2021\n\nNew tax proposals highlight the need for making money moves before December 31!\n\nSpace is limited\, so please register today by clicking here!\n\n\n\nI hope you will join us for this special event which is part of New York Life's "The Power of Knowing" educational seminar series. Please don't hesitate to reach out with any questions.
X-ALT-DESC;FMTTYPE=text/html:<span style="color:#5A5C8E"><span style="font-family:alda pro"><span style="font-size:14.0pt">&ldquo\;<strong>There is no time to waste.</strong> The actions you take in these final weeks of 2021 can impact you and your families <strong>for years\, decades and generations to come</strong>.&rdquo\;</span></span></span> <span style="color:#5A5C8E"><span style="font-family:alda pro"><span style="font-size:12.0pt">&ndash\; Ed Slott</span></span></span><br />\n<span style="color:#0A3C53"><span style="font-family:effra pro\,sans-serif">We&rsquo\;re thrilled to be joined again by Ed Slott\, CPA and IRA expert\, who will share how the final weeks of 2021 present a critical planning window for the best tax and financial strategies&mdash\;<strong><em>many that may disappear after December 31.</em></strong></span></span><br />\n<span style="color:#0A3C53"><span style="font-family:effra pro\,sans-serif">Please join us on <strong>November 17\, 2021 at 1PM EST</strong> as Ed shares timely ideas. His talk is titled:</span></span><br />\n<strong><span style="color:#0A3C53"><span style="font-family:effra pro\,sans-serif"><span style="font-size:18.0pt">5 Best Strategies: Year-End Retirement Tax Planning for 2021</span></span></span></strong><br />\n<strong><span style="color:#0A3C53"><span style="font-family:effra pro\,sans-serif"><span style="font-size:14.0pt">New tax proposals highlight the need for making money moves&mdash\;before December 31!</span></span></span></strong><br />\n<strong><span style="color:#0A3C53"><span style="font-family:effra pro\,sans-serif">Space is limited\, so please register today by clicking </span></span><span style="font-family:effra pro\,sans-serif"><a href="https://event.on24.com/wcc/r/3476425/F62EA77F555DDC385D7DD6D9C9E2BB91?partnerref=0210363"><span style="color:#FF0000\;">here</span></a></span><span style="color:#0A3C53"><span style="font-family:effra pro\,sans-serif">!</span></span></strong><br />\n<br />\n<span style="color:#0A3C53"><span style="font-family:effra pro\,sans-serif">I hope you will join us for this special event which is part of New York Life&rsquo\;s &ldquo\;The Power of Knowing&rdquo\; educational seminar series. Please don&rsquo\;t hesitate to reach out with any questions.</span></span>
LOCATION:Via Zoom. Space is limited\, so please register today by clicking here.
UID:e.445.15718
SEQUENCE:3
DTSTAMP:20260424T000237Z
URL:https://www.vallejochamber.com/events/details/year-end-retirement-tax-planning-15718
END:VEVENT

END:VCALENDAR
