BEGIN:VCALENDAR
VERSION:2.0
PRODID:-//ChamberMaster//Event Calendar 2.0//EN
METHOD:PUBLISH
X-PUBLISHED-TTL:P3D
REFRESH-INTERVAL:P3D
CALSCALE:GREGORIAN
BEGIN:VEVENT
DTSTART:20260523T190000Z
DTEND:20260523T220000Z
X-MICROSOFT-CDO-ALLDAYEVENT:FALSE
SUMMARY:Punk In The Park - Vallejo
DESCRIPTION:Welcome to Punk In The Park at the Solano County Fair in Vallejo a local go-to spot for live entertainment where the crowd shows up loud and proud. If you've been waiting for a night that feels like your favorite playlist came to life\, this is it. Punk In The Park brings a fast\, sweat-soaked set packed with sing-along hooks\, sharp riffs\, and that unmistakable DIY edge that turns strangers into a crew by the second chorus. The fairgrounds offer an open-air festival vibe with easy access\, room to roam\, and a central Vallejo location that makes arriving and leaving simple. Catch Punk In The Park Vallejo on 5/23/2026 at 12:00 PM. Grab your tickets now and be part of Punk In The Park Solano County Fair come early\, stay loud\, and make it a night to remember.
X-ALT-DESC;FMTTYPE=text/html:Welcome to Punk In The Park at the Solano County Fair in Vallejo&mdash\;a local go-to spot for live entertainment where the crowd shows up loud and proud. If you&rsquo\;ve been waiting for a night that feels like your favorite playlist came to life\, this is it. Punk In The Park brings a fast\, sweat-soaked set packed with sing-along hooks\, sharp riffs\, and that unmistakable DIY edge that turns strangers into a crew by the second chorus. The fairgrounds offer an open-air festival vibe with easy access\, room to roam\, and a central Vallejo location that makes arriving and leaving simple. Catch Punk In The Park Vallejo on 5/23/2026 at 12:00 PM. Grab your tickets now and be part of Punk In The Park Solano County Fair&mdash\;come early\, stay loud\, and make it a night to remember.
LOCATION:Solano County Fair - 900 Fairgrounds Dr\, Vallejo\, CA 94589
UID:e.445.17725
SEQUENCE:3
DTSTAMP:20260420T084301Z
URL:https://www.vallejochamber.com/events/details/punk-in-the-park-vallejo-17725
END:VEVENT

END:VCALENDAR
